BEGIN:VCALENDAR
VERSION:2.0
PRODID:-//Ministry of Justice, Cook Islands - ECPv6.15.20//NONSGML v1.0//EN
CALSCALE:GREGORIAN
METHOD:PUBLISH
X-ORIGINAL-URL:https://www.justice.gov.ck
X-WR-CALDESC:Events for Ministry of Justice, Cook Islands
REFRESH-INTERVAL;VALUE=DURATION:PT1H
X-Robots-Tag:noindex
X-PUBLISHED-TTL:PT1H
BEGIN:VTIMEZONE
TZID:Pacific/Rarotonga
BEGIN:STANDARD
TZOFFSETFROM:-1000
TZOFFSETTO:-1000
TZNAME:-10
DTSTART:20250101T000000
END:STANDARD
END:VTIMEZONE
BEGIN:VEVENT
DTSTART;VALUE=DATE:20260417
DTEND;VALUE=DATE:20260418
DTSTAMP:20260419T074022
CREATED:20260114T231325Z
LAST-MODIFIED:20260114T231325Z
UID:3585-1776384000-1776470399@www.justice.gov.ck
SUMMARY:LAT - Leases Approval Tribunal
DESCRIPTION:Submissions close Thursday 9th April 2026
URL:https://www.justice.gov.ck/event/lat-leases-approval-tribunal-4/
LOCATION:High Court – Ministry of Justice Building\, PO BOX 111\, Avarua\, Rarotonga\, 0000\, Cook Islands
CATEGORIES:High Court,LAT
ORGANIZER;CN="Veronica Papatua":MAILTO:veronica.papatua@cookislands.gov.ck
END:VEVENT
BEGIN:VEVENT
DTSTART;VALUE=DATE:20260220
DTEND;VALUE=DATE:20260221
DTSTAMP:20260419T074022
CREATED:20260114T222413Z
LAST-MODIFIED:20260217T190801Z
UID:3580-1771545600-1771631999@www.justice.gov.ck
SUMMARY:LAT - Leases Approval Tribunal
DESCRIPTION:Submissions closed Thursday 12th February 2026 \nLeases Approval Tribunal: 20 February 2026\nPUBLIC NOTICE\n\n\n\nNOTICE is hereby given that a Sitting of the Leases Approval Tribunal (LAT) will be held on FRIDAY THE 20 FEBRUARY 2026 AT 9.00AM at the Courtroom\, Avarua\, Rarotonga to hear and consider the applications listed below. Any person/s wishing to be heard on that day in respect of any of these applications may do so in person or may instruct some other lawyer or may send before the 20 FEBRUARY 2026 written submissions to the Tribunal addressed to the Chairman of the Leases Approval Tribunal\, Ministry of Justice\, P.O. Box 111\, Rarotonga. \n\n\n\n TUATUA AKAKITE\n\n\n\nTe akakite iatu nei kite katoatoa e ka rave ia tetai Akavaanga (Leases Approval Tribunal) a te VARAIRE RA 20 O PEPERUARE  2026 I TE ORA 9.00 I TE POPONGI (9.00AM) ki roto i te Are Akavaanga i Avarua no te kimianga i teia au oroanga i raro nei. Ka akatikaia tetai uatu tangata tei anoano kia akarongo ia tana tuatua a te reira ra\, no runga i teia au oroanga me kore kia akaue atu i tetai tangata ke me kore\, kia tuatua i tana tuatua me kore kia tata mai i tana tuatua na roto i tetai peapa ki te Tama Akatere o te Leases Approval Tribunal\, Ministry of Justice\, P.O. Box 111\, Rarotonga i mua ake i te ra 20 O PEPERUARE 2026. \n\n\n\n NUMBER NUMEROAPPLICANT TEI ORO MAILAND ENUANATURE TU O TE OROANGA  1108/25T Moore for Ioane MooreVaimaanga 5A TakitumuSublease Tauianga I tetai tuanga Riiti2109/25T Moore for Tearikivao & Aloma MooreVaimaanga 5A TakitumuSublease Tauianga I tetai tuanga Riiti3110/25T Moore for The Moore Siblings Family TrustVaimaanga 5A TakitumuSublease Tauianga I tetai tuanga Riiti4111/25T Moore for Travis MooreVaimaanga 5A TakitumuSublease Tauianga I tetai tuanga Riiti5353/25B Mason for ANZ BankTe Ioi 14B NgatangiiaAssignment of Lease Tauianga Riiti6354/25T Browne for Fine TuitupouNukupure 3A1A NgatangiiaMortgage Akakaiouanga7332/25B Mason for Steve & Doreen BoggsAkaoa 10 ArorangiAssignment of Lease Tauianga Riiti8323/25T Nicholas for Hermon ManiMarokatoti 89G ArorangiLease Riiti9324/25T Nicholas for Okirua Noel ManiMarokatoti 89G ArorangiLease Riiti10325/25T Nicholas for Edward & Pahitere ManiMarokatoti 89G ArorangiLease Riiti11326/25T Nicholas for Jovan NicholasVaiputa 9B NgatangiiaLease Riiti1208/26B Mason for James BeerPuoromea 49B2B3 AvaruaAssignment of Sublease Tauianga Riiti1311/26N Browne for Diana SweetappleVaitipi 90H1A & 90H1B ArorangiAssignment of Lease Tauianga Riiti1415/26N Ranginui for Tom RauketeTarairangi 13U MataveraAssignment of Lease Tauianga Riiti1516/26M Henry for Maeono IvaitiAkapuao 42A TakitumuLease Riiti1617/26M Henry for Matangaro & Marcia KapuvaiVaimaanga 5C TakitumuLease Riiti1718/26Martha HenryTikioki 47C TakitumuLease Riiti1819/26B Mason for Rossouw Enterprises LtdAkapuao 42 TakitumuAssignment of Lease Tauianga Riiti1920/26B Mason for Rossouw Enterprises LtdAkapuao 42 TakitumuMortgage Akakaiouanga2021/26N Browne for Tehema Turitoa & Chastine AreaiTe Ivi O Kaua 78 AvaruaMortgage Akakaiouanga2122/26N Browne for Lilia & Inakura UpokoTe Nu Tutai 12D MataveraMortgage Akakaiouanga2223/26N Browne for Leilani Parakoti & Emile Ah-ChingTuatea 11E NgatangiiaMortgage Akakaiouanga2324/26H Ellingham for Tamati IroKainganui 92G3B ArorangiMortgage Akakaiouanga2425/26H Ellingham for Caroline TiriaTuanaki 89C ArorangiAssignment of Lease Tauianga Riiti     \n\n\n\nVeronica PapatuaSecretary (LAT)
URL:https://www.justice.gov.ck/event/lat-leases-approval-tribunal-2/
LOCATION:High Court – Ministry of Justice Building\, PO BOX 111\, Avarua\, Rarotonga\, 0000\, Cook Islands
CATEGORIES:High Court,LAT
ORGANIZER;CN="Veronica Papatua":MAILTO:veronica.papatua@cookislands.gov.ck
END:VEVENT
BEGIN:VEVENT
DTSTART;VALUE=DATE:20260123
DTEND;VALUE=DATE:20260124
DTSTAMP:20260419T074022
CREATED:20260114T221943Z
LAST-MODIFIED:20260122T035030Z
UID:3576-1769126400-1769212799@www.justice.gov.ck
SUMMARY:LAT - Leases Approval Tribunal
DESCRIPTION:Submissions close Thursday 15th January 2026 \nLeases Approval Tribunal: 23 January 2026\nPUBLIC NOTICE\n\n\n\nNOTICE is hereby given that a Sitting of the Leases Approval Tribunal (LAT) will be held on FRIDAY THE 23 JANUARY 2026 AT 9.00AM at the Courtroom\, Avarua\, Rarotonga to hear and consider the applications listed below. Any person/s wishing to be heard on that day in respect of any of these applications may do so in person or may instruct some other lawyer or may send before the 23 JANUARY 2026 written submissions to the Tribunal addressed to the Chairman of the Leases Approval Tribunal\, Ministry of Justice\, P.O. Box 111\, Rarotonga. \n\n\n\nTUATUA AKAKITE\n\n\n\nTe akakite iatu nei kite katoatoa e ka rave ia tetai Akavaanga (Leases Approval Tribunal) a te VARAIRE RA 23 O TIANUARE  2026 I TE ORA 9.00 I TE POPONGI (9.00AM) ki roto i te Are Akavaanga i Avarua no te kimianga i teia au oroanga i raro nei. Ka akatikaia tetai uatu tangata tei anoano kia akarongo ia tana tuatua a te reira ra\, no runga i teia au oroanga me kore kia akaue atu i tetai tangata ke me kore\, kia tuatua i tana tuatua me kore kia tata mai i tana tuatua na roto i tetai peapa ki te Tama Akatere o te Leases Approval Tribunal\, Ministry of Justice\, P.O. Box 111\, Rarotonga i mua ake i te ra 23 O TIANUARE 2026. \n\n\n\n NUMBER NUMEROAPPLICANT TEI ORO MAILAND ENUANATURE TU O TE OROANGA  1108/25T Moore for Ioane MooreVaimaanga 5A TakitumuSublease Tauianga I tetai tuanga Riiti2109/25T Moore for Tearikivao & Aloma MooreVaimaanga 5A TakitumuSublease Tauianga I tetai tuanga Riiti3110/25T Moore for The Moore Siblings Family TrustVaimaanga 5A TakitumuSublease Tauianga I tetai tuanga Riiti4111/25T Moore for Travis MooreVaimaanga 5A TakitumuSublease Tauianga I tetai tuanga Riiti5177/25N Browne for Heiarii IoabaAvaavaroa 10A TakitumuAssignment of Lease Tauianga Riiti6265/25T Browne for Pae PapaiMotea 190B2 AvaruaAssignment of Lease Tauianga Riiti7315/25C Evans for Makiuti TongiaVaitakaia 59 AvaruaDeed of Release8323/25T Nicholas for Hermon ManiMarokatoti 89G ArorangiLease Riiti9324/25T Nicholas for Okirua Noel ManiMarokatoti 89G ArorangiLease Riiti10325/25T Nicholas for Edward & Pahitere ManiMarokatoti 89G ArorangiLease Riiti11326/25T Nicholas for Jovan NicholasVaiputa 9B NgatangiiaLease Riiti12334/25N Browne for Tuaine ThompsonKaikaveka 103E2B AvaruaAssignment of Lease Tauianga Riiti13335/25N Browne for Helen ThompsonKaikaveka 103E2B AvaruaAssignment of Lease Tauianga Riiti14349/25N Browne for Maggie NanaiKuruatu & Katoti 105A&B AvaruaLease Riiti15353/25B Mason for ANZ BankTe Ioi 14B NgatangiiaAssignment of Lease Tauianga Riiti16354/25T Browne for Fine TuitupouNukupure 3A1A NgatangiiaMortgage Akakaiouanga1701/26N Ranginui for Arona Vakatini & othersTe Ruatupa 39A TakitumuLease Riiti1802/26N Ranginui for Joseph HeatherRuaroa & Vaipapa 89D6 ArorangiLease Riiti1903/26M Henry for Raymond Smith & othersNgakuriao 88B2 ArorangiAssignment of Lease Tauianga Riiti2004/26T Nicholas for Martha TregoPuatai 6Y NgatangiiaLease Riiti2105/26T Nicholas for Rongo KautaiPuatai 6Y NgatangiiaLease Riiti2206/26T Nicholas for Maarametua TregoPuatai 6Y NgatangiiaLease Riiti2307/26T Nicholas for Teremoana MataiPuatai 6Y NgatangiiaLease Riiti2408/26B Mason for James BeerPuoromea 49B2B3 AvaruaAssignment of Sublease Tauianga Riiti2509/26N Browne for David & Christina PiakuraRangitaetaea 14S NgatangiiaMortgage Akakaiouanga2610/26N Browne for Manuae Scheel & othersOnemaru 83E2B2 ArorangiMortgage Akakaiouanga2711/26N Browne for Diana SweetappleVaitipi 90H1A & 90H1B ArorangiAssignment of Lease Tauianga Riiti2812/26H Ellingham for Rarotonga Property LtdKoenga 19 AvaruaMortgage Akakaiouanga2913/26H Ellingham for Alladins LtdTongatai 33 AvaruaMortgage Akakaiouanga3014/26S Smith for Jacqueline BrownTe Ruaorovaru 11H1 NgatangiiaAssignment of Lease Tauianga Riiti     \n\n\n\nVeronica PapatuaSecretary (LAT)
URL:https://www.justice.gov.ck/event/lat-leases-approval-tribunal/
LOCATION:High Court – Ministry of Justice Building\, PO BOX 111\, Avarua\, Rarotonga\, 0000\, Cook Islands
CATEGORIES:High Court,Land Court,LAT
ORGANIZER;CN="Veronica Papatua":MAILTO:veronica.papatua@cookislands.gov.ck
END:VEVENT
END:VCALENDAR